BEGIN:VCALENDAR
VERSION:2.0
PRODID:-//ChamberMaster//Event Calendar 2.0//EN
METHOD:PUBLISH
X-PUBLISHED-TTL:P1H
REFRESH-INTERVAL:P1H
CALSCALE:GREGORIAN
BEGIN:VTIMEZONE
TZID:America/New_York
BEGIN:DAYLIGHT
RRULE:FREQ=YEARLY;BYMONTH=3;BYDAY=2SU
DTSTART:20070101T000000
TZOFFSETFROM:-0500
TZOFFSETTO:-0400
TZNAME:Eastern Daylight Time
END:DAYLIGHT
BEGIN:STANDARD
RRULE:FREQ=YEARLY;BYMONTH=11;BYDAY=1SU
DTSTART:20070101T000000
TZOFFSETFROM:-0400
TZOFFSETTO:-0500
TZNAME:Eastern Standard Time
END:STANDARD
END:VTIMEZONE
BEGIN:VEVENT
DTSTART;VALUE=DATE:20261103
DTEND;VALUE=DATE:20261107
TRANSP:TRANSPARENT
X-MICROSOFT-CDO-ALLDAYEVENT:TRUE
SUMMARY:Annual Conference 2026
DESCRIPTION:The NYSRPS Annual Conference is the premier professional gathering for parks\, recreation\, and therapeutic recreation professionals across New York State. This multi-day conference brings together leaders\, practitioners\, partners\, and students to learn\, connect\, and celebrate the impact of parks and recreation on communities statewide. Attendees can expect high-quality educational sessions\, networking opportunities\, keynote presentations\, an exhibitor hall\, and opportunities to recognize excellence within the profession. The conference is designed to provide meaningful learning\, foster collaboration\, and strengthen the statewide parks and recreation community. This listing serves as a Save the Date. Additional details\, including the conference theme\, agenda\, registration information\, hotel accommodations\, and pricing\, will be released at a later date. Hosted by the New York State Recreation and Park Society.
X-ALT-DESC;FMTTYPE=text/html:<!DOCTYPE html><html><head><title></title></head><body aria-disabled="false"><p>The NYSRPS Annual Conference is the premier professional gathering for parks\, recreation\, and therapeutic recreation professionals across New York State.&nbsp\;</p><p>This multi-day conference brings together leaders\, practitioners\, partners\, and students to learn\, connect\, and celebrate the impact of parks and recreation on communities statewide. Attendees can expect high-quality educational sessions\, networking opportunities\, keynote presentations\, an exhibitor hall\, and opportunities to recognize excellence within the profession.&nbsp\;</p><p>The conference is designed to provide meaningful learning\, foster collaboration\, and strengthen the statewide parks and recreation community. This listing serves as a Save the Date.&nbsp\;</p><p>Additional details\, including the conference theme\, agenda\, registration information\, hotel accommodations\, and pricing\, will be released at a later date. Hosted by the New York State Recreation and Park Society.</p></body></html>
LOCATION:2 Fountain Plaza Buffalo NY 14202
UID:e.4601.1381240
SEQUENCE:3
DTSTAMP:20260422T045516Z
URL:https://members.nysrps.org/event-calendar/Details/annual-conference-2026-1630991?sourceTypeId=Hub
END:VEVENT
END:VCALENDAR
