BEGIN:VCALENDAR
VERSION:2.0
PRODID:-//ChamberMaster//Event Calendar 2.0//EN
METHOD:PUBLISH
X-PUBLISHED-TTL:P1H
REFRESH-INTERVAL:P1H
CALSCALE:GREGORIAN
BEGIN:VTIMEZONE
TZID:America/New_York
BEGIN:DAYLIGHT
RRULE:FREQ=YEARLY;BYMONTH=3;BYDAY=2SU
DTSTART:20070101T000000
TZOFFSETFROM:-0500
TZOFFSETTO:-0400
TZNAME:Eastern Daylight Time
END:DAYLIGHT
BEGIN:STANDARD
RRULE:FREQ=YEARLY;BYMONTH=11;BYDAY=1SU
DTSTART:20070101T000000
TZOFFSETFROM:-0400
TZOFFSETTO:-0500
TZNAME:Eastern Standard Time
END:STANDARD
END:VTIMEZONE
BEGIN:VEVENT
DTSTART;TZID=America/New_York:20260507T130000
DTEND;TZID=America/New_York:20260507T150000
X-MICROSOFT-CDO-ALLDAYEVENT:FALSE
SUMMARY:Annual Meeting
DESCRIPTION:The Annual Membership Meeting is open to all members and will include the presentation of the annual report\, organizational updates\, and key information relevant to the year ahead. A live demo of the new membership platform and software will be providedMembers and guests are encouraged to attend and engage in discussions supporting the mission and ongoing work of New York State Recreation and Park Society. Additional meeting details\, including the Zoom link\, will be shared closer to the event. For more information\, members may contact their Board of Directors or NYSRPS directly.
X-ALT-DESC;FMTTYPE=text/html:<!DOCTYPE html><html><head><title></title></head><body aria-disabled="false" spellcheck="false"><p>The Annual Membership Meeting is open to all members and will include the presentation of the annual report\, organizational updates\, and key information relevant to the year ahead. A live demo of the new membership platform and software will be provided</p><p>Members and guests are encouraged to attend and engage in discussions supporting the mission and ongoing work of New York State Recreation and Park Society.&nbsp\;</p><p>Additional meeting details\, including the Zoom link\, will be shared closer to the event. For more information\, members may contact their Board of Directors or NYSRPS directly.</p></body></html>
LOCATION:
UID:e.4601.1381210
SEQUENCE:3
DTSTAMP:20260422T044124Z
URL:https://members.nysrps.org/event-calendar/Details/annual-meeting-1630962?sourceTypeId=Hub
END:VEVENT
END:VCALENDAR
