BEGIN:VCALENDAR
VERSION:2.0
PRODID:-//ChamberMaster//Event Calendar 2.0//EN
METHOD:PUBLISH
X-PUBLISHED-TTL:P1H
REFRESH-INTERVAL:P1H
CALSCALE:GREGORIAN
BEGIN:VTIMEZONE
TZID:America/New_York
BEGIN:DAYLIGHT
RRULE:FREQ=YEARLY;BYMONTH=3;BYDAY=2SU
DTSTART:20070101T000000
TZOFFSETFROM:-0500
TZOFFSETTO:-0400
TZNAME:Eastern Daylight Time
END:DAYLIGHT
BEGIN:STANDARD
RRULE:FREQ=YEARLY;BYMONTH=11;BYDAY=1SU
DTSTART:20070101T000000
TZOFFSETFROM:-0400
TZOFFSETTO:-0500
TZNAME:Eastern Standard Time
END:STANDARD
END:VTIMEZONE
BEGIN:VEVENT
DTSTART;VALUE=DATE:20260502
DTEND;VALUE=DATE:20260503
TRANSP:TRANSPARENT
X-MICROSOFT-CDO-ALLDAYEVENT:TRUE
SUMMARY:I Love My Parks Day
DESCRIPTION:Join thousands of volunteers in caring for our state parks\, historic sites\, and public lands at New York's largest single-day volunteer event. I Love My Park Day is a chance to roll up your sleeves and show some love for the public lands that we rely on.More Information Here: https://www.ptny.org/events/i-love-my-park-day/
X-ALT-DESC;FMTTYPE=text/html:<!DOCTYPE html><html><head><title></title></head><body aria-disabled="false" spellcheck="false"><p>Join thousands of volunteers in caring for our state parks\, historic sites\, and public lands at New York&rsquo\;s largest single-day volunteer event. I Love My Park Day is a chance to roll up your sleeves and show some love for the public lands that we rely on.</p><p>More Information Here:&nbsp\;<a fr-original-style="" href="https://www.ptny.org/events/i-love-my-park-day/" style="user-select: auto\;">https://www.ptny.org/events/i-love-my-park-day/</a></p></body></html>
LOCATION:
UID:e.4601.1438895
SEQUENCE:3
DTSTAMP:20260422T045125Z
URL:https://members.nysrps.org/event-calendar/Details/i-love-my-parks-day-1703094?sourceTypeId=Hub
END:VEVENT
END:VCALENDAR
